BEGIN:VCALENDAR
VERSION:2.0
PRODID:-//The Ninth Floor Club + Venue - ECPv6.14.0//NONSGML v1.0//EN
CALSCALE:GREGORIAN
METHOD:PUBLISH
X-WR-CALNAME:The Ninth Floor Club + Venue
X-ORIGINAL-URL:https://ninthfloorwichita.com
X-WR-CALDESC:Events for The Ninth Floor Club + Venue
REFRESH-INTERVAL;VALUE=DURATION:PT1H
X-Robots-Tag:noindex
X-PUBLISHED-TTL:PT1H
BEGIN:VTIMEZONE
TZID:America/Chicago
BEGIN:DAYLIGHT
TZOFFSETFROM:-0600
TZOFFSETTO:-0500
TZNAME:CDT
DTSTART:20260308T080000
END:DAYLIGHT
BEGIN:STANDARD
TZOFFSETFROM:-0500
TZOFFSETTO:-0600
TZNAME:CST
DTSTART:20261101T070000
END:STANDARD
END:VTIMEZONE
BEGIN:VEVENT
DTSTART;TZID=America/Chicago:20260403T183000
DTEND;TZID=America/Chicago:20260403T223000
DTSTAMP:20260421T114537
CREATED:20260306T234234Z
LAST-MODIFIED:20260320T164744Z
UID:10001181-1775241000-1775255400@ninthfloorwichita.com
SUMMARY:Wind Surge Opening Weekend!
DESCRIPTION:Tickets Sold Out\nWind Surge Opening Weekend \nJoin us Friday\, April 3rd at 6:35 PM as the Wichita Wind Surge continue Opening Weekend at Equity Bank Park. \nEnjoy the excitement of baseball season returning to Wichita with a great night at the ballpark. \nGame Highlights:• Rally Towel Giveaway• Fireworks• First pitch at 6:35 PM \nStart your evening at the club\, then head over to the stadium to cheer on the Wind Surge and celebrate Opening Weekend in Wichita.
URL:https://ninthfloorwichita.com/event/wind-surge-opening-weekend/
LOCATION:The Ninth Floor Club + Venue\, 100 N. Broadway Suite 900\, Wichita\, KS\, 67202
END:VEVENT
BEGIN:VEVENT
DTSTART;TZID=America/Chicago:20260329T140000
DTEND;TZID=America/Chicago:20260329T180000
DTSTAMP:20260421T114537
CREATED:20260106T000019Z
LAST-MODIFIED:20260106T001231Z
UID:10001156-1774792800-1774807200@ninthfloorwichita.com
SUMMARY:Thunder Hockey General Admission Tickets
DESCRIPTION:To request tickets\, please complete the form below.If you would like to request tickets for multiple games please fill out the form on the page associated with the event date.Our system automatically adds the game date for you\, which helps ensure your ticket request is tied to that specific date. \nPlease allow a couple of minutes between each form submission to give our system time to process your request.
URL:https://ninthfloorwichita.com/event/thunder-hockey-general-admission-tickets/2026-03-29/
LOCATION:The Ninth Floor Club + Venue\, 100 N. Broadway Suite 900\, Wichita\, KS\, 67202
ATTACH;FMTTYPE=image/jpeg:https://ninthfloorwichita.com/wp-content/uploads/2025/08/Wichita-thunder-Hockey-Oct.jpeg
END:VEVENT
BEGIN:VEVENT
DTSTART;TZID=America/Chicago:20260328T180000
DTEND;TZID=America/Chicago:20260328T220000
DTSTAMP:20260421T114537
CREATED:20260106T000019Z
LAST-MODIFIED:20260106T001231Z
UID:10001155-1774720800-1774735200@ninthfloorwichita.com
SUMMARY:Thunder Hockey General Admission Tickets
DESCRIPTION:To request tickets\, please complete the form below.If you would like to request tickets for multiple games please fill out the form on the page associated with the event date.Our system automatically adds the game date for you\, which helps ensure your ticket request is tied to that specific date. \nPlease allow a couple of minutes between each form submission to give our system time to process your request.
URL:https://ninthfloorwichita.com/event/thunder-hockey-general-admission-tickets/2026-03-28/
LOCATION:The Ninth Floor Club + Venue\, 100 N. Broadway Suite 900\, Wichita\, KS\, 67202
ATTACH;FMTTYPE=image/jpeg:https://ninthfloorwichita.com/wp-content/uploads/2025/08/Wichita-thunder-Hockey-Oct.jpeg
END:VEVENT
BEGIN:VEVENT
DTSTART;TZID=America/Chicago:20260328T173000
DTEND;TZID=America/Chicago:20260328T203000
DTSTAMP:20260421T114537
CREATED:20260310T161719Z
LAST-MODIFIED:20260318T150435Z
UID:10001182-1774719000-1774729800@ninthfloorwichita.com
SUMMARY:An American Songbook Salon
DESCRIPTION:An American Songbook Salon\nCelebrating the Music of Irving Berlin\nHosted by the Wichita Symphony \nSaturday\, March 28\, 2026\n5:30pm – 8:30pm\nThe Ninth Floor Club + Venue \nEvent Overview\nJoin the Wichita Symphony for an elegant evening celebrating the timeless music of Irving Berlin. This American Songbook Salon will feature a live performance by Principal Pianist Drew Crane\, along with dinner\, drinks\, and engaging conversation with fellow music supporters. \nEvening Includes\n🎹 Live piano performance by Drew Crane\n🍽 Full dinner\n🍷 Two drink tickets (additional drinks available at cash bar)\n🌟 Silent auction featuring local items and experiences\n🅿️ Complimentary parking in the attached garage with covered walkway access \nAdmission\nMembers: $65 charged to member account\nNon-Members: $125 per guest supporting the Wichita Symphony \n  \n\nSign Up below \n\n\n 
URL:https://ninthfloorwichita.com/event/amss/
LOCATION:The Ninth Floor Club + Venue\, 100 N. Broadway Suite 900\, Wichita\, KS\, 67202
END:VEVENT
BEGIN:VEVENT
DTSTART;TZID=America/Chicago:20260327T180000
DTEND;TZID=America/Chicago:20260327T200000
DTSTAMP:20260421T114537
CREATED:20260105T233851Z
LAST-MODIFIED:20260311T210904Z
UID:10001140-1774634400-1774641600@ninthfloorwichita.com
SUMMARY:Live Music - Roberto Benardinello Mar 27th
DESCRIPTION:🎶 Live Music in the Petroleum Room \nFeaturing Roberto Bernardinello \nJoin us in The Petroleum Room for live music with Roberto Benardinello\, providing the perfect backdrop for dinner and drinks in a classic club atmosphere. \n 
URL:https://ninthfloorwichita.com/event/live-music-roberto-bernardinello-mar-27th/
LOCATION:The Ninth Floor Club + Venue\, 100 N. Broadway Suite 900\, Wichita\, KS\, 67202
END:VEVENT
BEGIN:VEVENT
DTSTART;TZID=America/Chicago:20260324T190000
DTEND;TZID=America/Chicago:20260324T220000
DTSTAMP:20260421T114537
CREATED:20260106T000019Z
LAST-MODIFIED:20260106T001231Z
UID:10001154-1774378800-1774389600@ninthfloorwichita.com
SUMMARY:Thunder Hockey General Admission Tickets
DESCRIPTION:To request tickets\, please complete the form below.If you would like to request tickets for multiple games please fill out the form on the page associated with the event date.Our system automatically adds the game date for you\, which helps ensure your ticket request is tied to that specific date. \nPlease allow a couple of minutes between each form submission to give our system time to process your request.
URL:https://ninthfloorwichita.com/event/thunder-hockey-general-admission-tickets/2026-03-24/
LOCATION:The Ninth Floor Club + Venue\, 100 N. Broadway Suite 900\, Wichita\, KS\, 67202
ATTACH;FMTTYPE=image/jpeg:https://ninthfloorwichita.com/wp-content/uploads/2025/08/Wichita-thunder-Hockey-Oct.jpeg
END:VEVENT
BEGIN:VEVENT
DTSTART;TZID=America/Chicago:20260321T180000
DTEND;TZID=America/Chicago:20260321T210000
DTSTAMP:20260421T114537
CREATED:20260221T022616Z
LAST-MODIFIED:20260316T162911Z
UID:10001176-1774116000-1774126800@ninthfloorwichita.com
SUMMARY:Peaky Blinders - Watch Party
DESCRIPTION:Peaky Blinders Movie – Watch Party\nSaturday\, March 21 POSTPONED – We will reschedule once Cloud 9 maintenance has been complete. Thank you for understanding. \nMembers & Guests Welcome \nStep into 1920s Birmingham for a night of bold style\, classic comfort food\, and the Shelby family on screen. \nEvent Timeline\n\n\n6:00pm – Arrival \n\n\n6:30pm – Dinner Begins \n\n\n7:00pm – Movie Starts \n\n\n9:00pm – Event Concludes \n\n\nLocation\nCloud 9 & The Petroleum Room \nWhat to Expect\n\n\nNew Peaky Blinders movie playing throughout the evening \n\n\nBirmingham-Style Buffet \n\n\nDress to match the era \n\n\nPrize for Best Dressed – $50 Gift Certificate \n\n\nMenu – Birmingham Style Buffet\nServed in the Buffet Room(No regular menu available this evening) \n\n\nHouse Salad \n\n\nChicken Pot Pie \n\n\nClassy Meatloaf \n\n\nGreen Beans \n\n\nRoasted Carrots \n\n\nScalloped Potatoes \n\n\nDinner Rolls \n\n\nHomestyle Desserts \n\n\nPricing\n$25++ – Charged to member account \nRSVP Deadline\nMarch 19 \nReserve your spot early and join us for a night of sharp suits\, strong flavors\, and Shelby-style entertainment.
URL:https://ninthfloorwichita.com/event/peaky-blinders-watch-party/
LOCATION:The Ninth Floor Club + Venue\, 100 N. Broadway Suite 900\, Wichita\, KS\, 67202
END:VEVENT
BEGIN:VEVENT
DTSTART;TZID=America/Chicago:20260321T173000
DTEND;TZID=America/Chicago:20260321T193000
DTSTAMP:20260421T114537
CREATED:20260105T192752Z
LAST-MODIFIED:20260105T192758Z
UID:10001131-1774114200-1774121400@ninthfloorwichita.com
SUMMARY:Live Music - Charlie Wilks Mar 21
DESCRIPTION:
URL:https://ninthfloorwichita.com/event/live-music-charlie-wilks-mar-21/
LOCATION:The Ninth Floor Club + Venue\, 100 N. Broadway Suite 900\, Wichita\, KS\, 67202
ATTACH;FMTTYPE=image/jpeg:https://ninthfloorwichita.com/wp-content/uploads/2026/01/Charlie-Wilks-Files-16-Charlie-Wilks-8-8-wide-4.jpeg
END:VEVENT
END:VCALENDAR