BEGIN:VCALENDAR
VERSION:2.0
PRODID:-//The Ninth Floor Club + Venue - ECPv6.14.0//NONSGML v1.0//EN
CALSCALE:GREGORIAN
METHOD:PUBLISH
X-WR-CALNAME:The Ninth Floor Club + Venue
X-ORIGINAL-URL:https://ninthfloorwichita.com
X-WR-CALDESC:Events for The Ninth Floor Club + Venue
REFRESH-INTERVAL;VALUE=DURATION:PT1H
X-Robots-Tag:noindex
X-PUBLISHED-TTL:PT1H
BEGIN:VTIMEZONE
TZID:America/Chicago
BEGIN:DAYLIGHT
TZOFFSETFROM:-0600
TZOFFSETTO:-0500
TZNAME:CDT
DTSTART:20260308T080000
END:DAYLIGHT
BEGIN:STANDARD
TZOFFSETFROM:-0500
TZOFFSETTO:-0600
TZNAME:CST
DTSTART:20261101T070000
END:STANDARD
END:VTIMEZONE
BEGIN:VEVENT
DTSTART;TZID=America/Chicago:20260423T113000
DTEND;TZID=America/Chicago:20260423T130000
DTSTAMP:20260421T090519
CREATED:20260406T173715Z
LAST-MODIFIED:20260406T173715Z
UID:10001220-1776943800-1776949200@ninthfloorwichita.com
SUMMARY:Korleone Young Luncheon: From Wichita to the World
DESCRIPTION:Korleone Young Luncheon\nThursday\, April 23\, 2026\nJoin us in Grandview for a special luncheon featuring Wichita native Korleone Young. Open to both members and non-members\, this event offers the opportunity to hear from one of Wichita’s most accomplished basketball figures as he shares his journey from local standout to national recognition and international professional play. \nGuests are invited to enjoy lunch beginning at 11:30 AM\, with Korleone Young’s presentation starting at noon. \nKorleone Young rose from Wichita courts to national prominence as Kansas’ only two-time Parade High School All-American. He went on to attend Hargrave Military Academy\, where he was named National Prep School Player of the Year and earned a spot in the McDonald’s All-American Game. \nSelected 40th overall in the 1998 NBA Draft\, Young built a professional basketball career playing internationally in Australia\, Russia\, China\, Italy\, and Israel. \nToday\, he is the founder of the One and Done Elite Skills Training Foundation\, where he mentors youth by teaching life skills through basketball. A Master Mason\, Shriner\, and proud husband\, father\, and grandfather\, Korleone remains deeply committed to giving back to the Wichita community that helped shape his journey. \nEvent Details\nTime: 11:30 AM – 1:00 PM \nBuffet Begins: 11:30 AM \nPresentation Begins: 12:00 PM \nLocation: Grandview \nAdmission: Open to the Public \nAdvance Ticket Sales: Yes \nMember Price: $20 + tax per person \nNon-Member Price: $25 + tax per person
URL:https://ninthfloorwichita.com/event/korleone-young-luncheon-from-wichita-to-the-world/
LOCATION:The Ninth Floor Club + Venue\, 100 N. Broadway Suite 900\, Wichita\, KS\, 67202
ATTACH;FMTTYPE=image/jpeg:https://ninthfloorwichita.com/wp-content/uploads/2026/04/Kerleone-Young-1-1.jpeg
END:VEVENT
END:VCALENDAR